BEGIN:VCALENDAR
VERSION:2.0
PRODID:
BEGIN:VEVENT
UID:592156imp
DTSTAMP:20260420T171905Z
DTSTART:20261120T140000Z
DTEND:20261120T220000Z
LOCATION: **Online**
SUMMARY: Surgent's The Complete Guide to Payroll Taxes and 1099 Issues
DESCRIPTION: Employment taxes are often overlooked as an area where more planning may be effective. Payroll taxes have become an increasing burden for the average business\, and IRS penalties for noncompliance have risen dramatically in recent years. The Service has announced that uncovering noncompliance by employers ranks high on its audit list. This course presents a comprehensive overview of federal payroll taxes\, Form 1099\, and related compliance issues.
CLASS:PUBLIC
END:VEVENT
END:VCALENDAR
