BEGIN:VCALENDAR
VERSION:2.0
PRODID:
BEGIN:VEVENT
UID:592116imp
DTSTAMP:20260421T104501Z
DTSTART:20261231T150000Z
DTEND:20261231T170000Z
LOCATION: **Online**
SUMMARY: Surgent's Comparing and Contrasting Retirement Plans for Small- and Medium-Sized Businesses
DESCRIPTION: Clients often ask accounting and finance professionals whether they have the "best" pension plan and whether they are using it to its maximum advantage. This program explains how various pension plans work and analyzes why a small or medium-sized business owner would choose one plan over another.
CLASS:PUBLIC
END:VEVENT
END:VCALENDAR
