BEGIN:VCALENDAR
VERSION:2.0
PRODID:
BEGIN:VEVENT
UID:592115imp
DTSTAMP:20260419T180628Z
DTSTART:20261130T180000Z
DTEND:20261130T200000Z
LOCATION: **Online**
SUMMARY: Surgent's Comparing and Contrasting Retirement Plans for Small- and Medium-Sized Businesses
DESCRIPTION: Clients often ask accounting and finance professionals whether they have the "best" pension plan and whether they are using it to its maximum advantage. This program explains how various pension plans work and analyzes why a small or medium-sized business owner would choose one plan over another.
CLASS:PUBLIC
END:VEVENT
END:VCALENDAR
