BEGIN:VCALENDAR
VERSION:2.0
PRODID:
BEGIN:VEVENT
UID:592067imp
DTSTAMP:20260421T091333Z
DTSTART:20261022T140000Z
DTEND:20261022T160000Z
LOCATION: **Online**
SUMMARY: Surgent's Business Writing: Professional & Effective Emails
DESCRIPTION: Good writing is good business. Studies show that the average business worker receives 121 emails per day. That's a lot of emails. Are your emails effective? Are they being read? Are they professional and tone-smart? In this course\, you will learn techniques and skills to get your emails to stand out and improve their effectiveness and professionalism.
CLASS:PUBLIC
END:VEVENT
END:VCALENDAR
