BEGIN:VCALENDAR
VERSION:2.0
PRODID:
BEGIN:VEVENT
UID:592040imp
DTSTAMP:20260421T104722Z
DTSTART:20261109T193000Z
DTEND:20261109T230000Z
LOCATION: **Online**
SUMMARY: Surgent's Key Partnership and S Corporation Tax Planning Strategies
DESCRIPTION: Many of our clients are pass-through entities for which many of the general business strategies are subject to additional limitations. To provide the tax planning strategies for closely held business clients that will bring more revenue\, this course focuses on the special concerns and techniques the practitioner needs to thrive in this market.
CLASS:PUBLIC
END:VEVENT
END:VCALENDAR
