BEGIN:VCALENDAR
VERSION:2.0
PRODID:
BEGIN:VEVENT
UID:592027imp
DTSTAMP:20260422T142509Z
DTSTART:20260622T190000Z
DTEND:20260622T210000Z
LOCATION: **Online**
SUMMARY: Surgent's Top Business Tax Planning Strategies
DESCRIPTION: Business strategies for 2026 are based on important tax changes made in the One Big Beautiful Bill Act (OBBBA). There are a number of important business tax changes that can be used to develop tax planning strategies that have great advantages for businesses and their owners. This program covers many important business tax changes and the implications for tax planning founded on them.
CLASS:PUBLIC
END:VEVENT
END:VCALENDAR
