BEGIN:VCALENDAR
VERSION:2.0
PRODID:
BEGIN:VEVENT
UID:591960imp
DTSTAMP:20260421T073655Z
DTSTART:20270204T140000Z
DTEND:20270204T220000Z
LOCATION: **Online**
SUMMARY: Surgent's Business Law Essentials for Practitioners and Controllers
DESCRIPTION: This course covers basic legal principles that every accountant should be familiar with to avoid common legal disputes and costly litigation. By analyzing business law issues from the standpoint and background of accountants and auditors\, this course will help you develop an approach to client and practice issues with a sensitivity and appreciation for potential legal ramifications.
CLASS:PUBLIC
END:VEVENT
END:VCALENDAR
