BEGIN:VCALENDAR
VERSION:2.0
PRODID:
BEGIN:VEVENT
UID:591938imp
DTSTAMP:20260421T110448Z
DTSTART:20261103T163000Z
DTEND:20261104T003000Z
LOCATION: **Online**
SUMMARY: The Best Individual Income Tax Update Course by Surgent
DESCRIPTION: This highly informative course comprehensively covers all the latest tax law developments. The focus is on individual taxation and discussion of the planning opportunities practitioners need to understand to help clients respond effectively. You will come away from the course with the up-to-date knowledge to educate your individual tax clients and implement tax-saving ideas that will serve their ever-evolving needs. This course is continually updated to reflect enacted legislation.  Please Note: Due to content overlap\, it is recommended that this course NOT be taken together with BFTU.
CLASS:PUBLIC
END:VEVENT
END:VCALENDAR
