BEGIN:VCALENDAR
VERSION:2.0
PRODID:
BEGIN:VEVENT
UID:591894imp
DTSTAMP:20260419T193808Z
DTSTART:20261201T140000Z
DTEND:20261201T220000Z
LOCATION: **Online**
SUMMARY: The Best Federal Tax Update Course by Surgent
DESCRIPTION: In this continually revised course\, tax advisors will be fully updated on the most recent enacted legislation and IRS guidance\, as well as major trends on the horizon with a view toward planning considerations. This update course is designed for all practitioners\, both those working in public accounting as well as those in private industry\, who need the latest information on tax changes.  Please Note: Due to content overlap\, it is recommended that this course NOT be taken together with BITU.
CLASS:PUBLIC
END:VEVENT
END:VCALENDAR
