BEGIN:VCALENDAR
VERSION:2.0
PRODID:
BEGIN:VEVENT
UID:591844imp
DTSTAMP:20260420T172002Z
DTSTART:20261120T140000Z
DTEND:20261120T220000Z
LOCATION: **Online**
SUMMARY: The Best S Corporation\, Limited Liability\, and Partnership Update Course by Surgent
DESCRIPTION: This year practitioners need to keep abreast of tax changes affecting pass-through entities used by their business clients and employers\, and this enlightening course delivers that information. You will learn invaluable strategies\, techniques\, innovative tax-planning concepts\, income-generating ideas\, and other planning opportunities available to S corporations\, partnerships\, LLCs\, and LLPs. In addition\, this course will discuss current trends and emerging issues\, helping practitioners stay informed about relevant and significant topics that may impact their clients. Continually updated to reflect enacted legislation.
CLASS:PUBLIC
END:VEVENT
END:VCALENDAR
