BEGIN:VCALENDAR
VERSION:2.0
PRODID:
BEGIN:VEVENT
UID:591825imp
DTSTAMP:20260424T031645Z
DTSTART:20270319T180000Z
DTEND:20270319T200000Z
LOCATION: **Online**
SUMMARY: Surgent's Unconscious Bias for Managers\, Supervisors\, and Executives
DESCRIPTION: Understanding unconscious bias is key to creating an inclusive workplace and to making the best business decisions. This course explores the concept of unconscious bias\, the science behind it\, and how it can affect the way employers hire\, evaluate\, and treat employees. We will also discuss strategies employers can use to reduce unconscious bias and create a more inclusive workplace.
CLASS:PUBLIC
END:VEVENT
END:VCALENDAR
