BEGIN:VCALENDAR
VERSION:2.0
PRODID:
BEGIN:VEVENT
UID:591822imp
DTSTAMP:20260419T180634Z
DTSTART:20261125T160000Z
DTEND:20261125T180000Z
LOCATION: **Online**
SUMMARY: Surgent's Unconscious Bias for Managers\, Supervisors\, and Executives
DESCRIPTION: Understanding unconscious bias is key to creating an inclusive workplace and to making the best business decisions. This course explores the concept of unconscious bias\, the science behind it\, and how it can affect the way employers hire\, evaluate\, and treat employees. We will also discuss strategies employers can use to reduce unconscious bias and create a more inclusive workplace.
CLASS:PUBLIC
END:VEVENT
END:VCALENDAR
