BEGIN:VCALENDAR
VERSION:2.0
PRODID:
BEGIN:VEVENT
UID:591780imp
DTSTAMP:20260420T101508Z
DTSTART:20270108T140000Z
DTEND:20270108T220000Z
LOCATION: **Online**
SUMMARY: Surgent's Technical Business Practice Issues and Tax Forms for Experienced Practitioners
DESCRIPTION: Don't let the title frighten you.  It is critical that staff be trained on the increasingly complex forms-related issues that challenge them each busy season. This course will help experienced staff focus on the essential amidst the cacophony of IRS and legislative changes and avoid costly mistakes.

This course brings to the forefront advanced preparation issues\, from individual returns to flow-through entities such as S corporations\, LLCs\, and partnerships.
CLASS:PUBLIC
END:VEVENT
END:VCALENDAR
