BEGIN:VCALENDAR
VERSION:2.0
PRODID:
BEGIN:VEVENT
UID:591760imp
DTSTAMP:20260419T193844Z
DTSTART:20261130T200000Z
DTEND:20261130T220000Z
LOCATION: **Online**
SUMMARY: Surgent's Anatomy of a Ransomware Event and Incident Response
DESCRIPTION: The past two years have ushered in an explosion of ransomware attacks affecting businesses and individuals. Many of us read or hear about these attacks\, but there is little understanding of how they occur\, how a response is undertaken\, and how the chances of experiencing one can be reduced. Join us to learn about these topics so you can be prepared with the best response and the knowledge to avoid common mistakes in a ransomware event.
CLASS:PUBLIC
END:VEVENT
END:VCALENDAR
