BEGIN:VCALENDAR
VERSION:2.0
PRODID:
BEGIN:VEVENT
UID:591648imp
DTSTAMP:20260420T010746Z
DTSTART:20270308T140000Z
DTEND:20270308T173000Z
LOCATION: **Online**
SUMMARY: Surgent's Auditing 401(k) Plans: Critical Issues and Annual Update
DESCRIPTION: Due to increasing scrutiny in the employee benefit plan area\, it is imperative for auditors of 401(k) plans to remain up to date on the rules and regulations that may impact the audit engagement.

In this course\, auditors will enhance their knowledge by understanding the changes affecting audit procedures and reporting in accordance with recently issued Statements on Auditing Standards (SASs)\, identifying best practices\, and performing efficient audit engagements.
CLASS:PUBLIC
END:VEVENT
END:VCALENDAR
