BEGIN:VCALENDAR
VERSION:2.0
PRODID:
BEGIN:VEVENT
UID:591602imp
DTSTAMP:20260420T091710Z
DTSTART:20261009T130000Z
DTEND:20261009T210000Z
LOCATION: **Online**
SUMMARY: Surgent's Advanced Critical Tax Issues for S Corporations
DESCRIPTION: This course goes beyond the basics and addresses important practical issues that an experienced practitioner must know. Even if you have attended other S corporation courses\, you will learn something new in this course.
CLASS:PUBLIC
END:VEVENT
END:VCALENDAR
