BEGIN:VCALENDAR
VERSION:2.0
PRODID:
BEGIN:VEVENT
UID:591535imp
DTSTAMP:20260423T091804Z
DTSTART:20270426T130000Z
DTEND:20270426T163000Z
LOCATION: **Online**
SUMMARY: Surgent's Accountability and Action
DESCRIPTION: Good managers know how to delegate\, but it can be a challenge to manage employees who are more interested in passing the buck than being responsible. Lack of ownership and responsibility can bog down processes and shut down projects. This workshop will help you create a game plan for building a culture of accountability with your team.
CLASS:PUBLIC
END:VEVENT
END:VCALENDAR
