BEGIN:VCALENDAR
VERSION:2.0
PRODID:
BEGIN:VEVENT
UID:591009imp
DTSTAMP:20260421T183832Z
DTSTART:20261019T170000Z
DTEND:20261019T190000Z
LOCATION: **Online**
SUMMARY: Fiduciary Accounting Part 2: Tools\, Rules and Relationship to Tax 26-27
DESCRIPTION: To properly account for estates and non-grantor trusts\, an advisor must understand the statutory requirements to account\, the proper classification of revenue and expenses in a chart of account and the importance of provisions in the estate planning document. Additionally\, the differences and similarities to fiduciary taxation must be understood. Be sure to register for all four parts: Fiduciary Accounting Part 1: Fiduciary Duty Basics & Authority Fiduciary Accounting Part 2: Tools\, Rules and Relationship to Tax Fiduciary Accounting Part 3: Special Accounting Elections & Distributions from Entities Fiduciary Accounting Part 4: The New Frontier (Total Return Trusts)
CLASS:PUBLIC
END:VEVENT
END:VCALENDAR
