BEGIN:VCALENDAR
VERSION:2.0
PRODID:
BEGIN:VEVENT
UID:590308kak
DTSTAMP:20260420T134851Z
DTSTART:20261105T130000Z
DTEND:20261105T210000Z
SUMMARY: Don Farmer's Federal Tax Update
DESCRIPTION: *** Save 15% on this event when you use the code SAVE15 at checkout ***\n  \nJoin us for Don Farmer's Federal Tax Update — an engaging and informative course that will keep you up-to-speed on the latest tax developments. Using a blend of humor and practical examples\, we'll walk through the most significant new tax legislation and updates affecting individual\, corporate and business income taxation\n \nThe 2025 tax law introduces significant changes that will shape 2026 tax return preparation — and now is the time to get up to speed.In this timely update\, we’ll walk through the provisions taking effect in 2026\, along with important IRS guidance\, recent court decisions and inflation-adjusted amounts that impact planning and compliance. We’ll focus on the developments that matter most when preparing returns and advising clients.\n  \nWith clear explanations and practical insights\, this session will help you stay current\, spot planning opportunities and head into the 2026 filing season prepared and confident.\n  \n\n\nDelivery Method: Group internet-basedCPE Credit: TaxesProgram Level: Update \n\n\nVirginia Society of CPAs is registered with the National Association of State Boards of Accountancy (NASBA) as a sponsor of continuing professional education on the National Registry of CPE Sponsors. State Boards of Accountancy have the final authority on the acceptance of individual course for CPE credit. Complaints regarding registered sponsors may be submitted to the National Registry of CPE Sponsors through its website: <a href="www.nasbaregistry.org">www.nasbaregistry.org</a>
CLASS:PUBLIC
END:VEVENT
END:VCALENDAR
