BEGIN:VCALENDAR
VERSION:2.0
PRODID:
BEGIN:VEVENT
UID:590256imp
DTSTAMP:20260425T232850Z
DTSTART:20260521T170000Z
DTEND:20260521T200000Z
LOCATION: **Online**
SUMMARY: Are You Ready for Your Peer Review?
DESCRIPTION: Be ready for your peer review!The peer review process is an effective way to monitor practice quality\, ensuring that your firm meets high standards while protecting the public interest. Gain a better understanding of the overall peer review process and learn how to fully prepare for your triennial review.This webcast will help you: \nUnderstand and compare the system and engagement review processes \nAddress recently issued peer review guidance and quality control requirements \nLearn how both guidance and requirements affect your firmYou'll also discover the most common areas of noncompliance with professional standards and how to avoid them well before your review is due. Participants will leave this session with the resources and tools to enhance their firm's peer review quality. 
CLASS:PUBLIC
END:VEVENT
END:VCALENDAR
