BEGIN:VCALENDAR
VERSION:2.0
PRODID:
BEGIN:VEVENT
UID:590236kak
DTSTAMP:20260420T151335Z
DTSTART:20260528T170000Z
DTEND:20260528T203000Z
SUMMARY: Taxation of the Construction Contractor
DESCRIPTION: *** Save 15% on this event when you use the code SAVE15 at checkout ***\n  \nTaxation of long-term contracts has evolved into a myriad of compliance requirements and reporting considerations.  Understanding the complex and sometimes illogical rules is a specialty.  This program has been developed by Gene Ristaino\, CPA/ABV/CFF\, MT from numerous years of service to the real estate and construction industries\, to efficiently plow through the many issues and provide clear approaches to obtain the most beneficial tax result for the construction contractor while meeting the numerous compliance requirements.  \n  
CLASS:PUBLIC
END:VEVENT
END:VCALENDAR
