BEGIN:VCALENDAR
VERSION:2.0
PRODID:
BEGIN:VEVENT
UID:590235kak
DTSTAMP:20260421T104843Z
DTSTART:20260519T170000Z
DTEND:20260519T203000Z
SUMMARY: Tax Issues of Real Estate and Homebuilding
DESCRIPTION: *** Save 15% on this event when you use the code SAVE15 at checkout ***\n  \nTaxation of real property and homebuilding contractors has been subject to IRS scrutiny\, particularly in complying with cost capitalization issues\, revenue recognition and costing out for units sold.  This program has been developed by Gene Ristaino\, CPA/ABV/CFF\, MT from numerous years of service to the real estate and construction industries\, to provide clear approaches to comply with the costing rules\, avoid IRS audit adjustments\, and obtain the most beneficial tax result for the homebuilder/developer.  The Program will provide an in-depth analysis regarding the tax accounting methods for homebuilding activities will be provided\, including the application of IRC Section 263A - uniform capitalization requirements\, and IRC Section 461 - economic performance.  We will also provide a detailed analysis of the impact of recent tax reform\n 
CLASS:PUBLIC
END:VEVENT
END:VCALENDAR
