BEGIN:VCALENDAR
VERSION:2.0
PRODID:
BEGIN:VEVENT
UID:589163mb
DTSTAMP:20260421T232050Z
DTSTART:20260625T170000Z
DTEND:20260625T180000Z
LOCATION: **Online**
SUMMARY: Hiring Remotely: Using Personality Assessments for Better Hiring Decisions
DESCRIPTION: This course explores the best practices for hiring remotely while leveraging personality assessments to make more informed decisions. Learn how to effectively integrate personality testing into your recruitment process to identify candidates who are the right fit for your team\, even from a distance\n 
CLASS:PUBLIC
END:VEVENT
END:VCALENDAR
