BEGIN:VCALENDAR
VERSION:2.0
PRODID:
BEGIN:VEVENT
UID:589059mb
DTSTAMP:20260426T041305Z
DTSTART:20260620T180000Z
DTEND:20260620T190100Z
LOCATION: **Online**
SUMMARY: Mental Illness & Depression: Understanding & Supporting Employees Under the ADA
DESCRIPTION: This webinar aims to provide HR professionals with a comprehensive understanding of mental illness and depression under the Americans with Disabilities Act (ADA). It will cover key aspects of the law\, provide practical advice\, and address common challenges\n 
CLASS:PUBLIC
END:VEVENT
END:VCALENDAR
