BEGIN:VCALENDAR
VERSION:2.0
PRODID:
BEGIN:VEVENT
UID:589051mb
DTSTAMP:20260426T040522Z
DTSTART:20260620T160000Z
DTEND:20260620T175100Z
LOCATION: **Online**
SUMMARY: Interview Techniques & Detecting Deception
DESCRIPTION: The ability to create and ask good questions as well as the ability to know when someone is being deceptive are important skills for managers\, auditors\, and investigators. This session will improve your interview techniques and your lie detection abilities. Multiple videos from various movies\, TV shows\, and public figures showcasing the behaviors of liars are included\n 
CLASS:PUBLIC
END:VEVENT
END:VCALENDAR
