BEGIN:VCALENDAR
VERSION:2.0
PRODID:
BEGIN:VEVENT
UID:589004mb
DTSTAMP:20260424T093129Z
DTSTART:20260618T180000Z
DTEND:20260618T194700Z
LOCATION: **Online**
SUMMARY: Accounting and Reporting Long-Term Debt
DESCRIPTION: Debt is typically a critical component of the financial statements\, impacting the economic decisions of financial statement users. This course will address common issues that may impact the proper presentation and disclosure of debt\, including debt covenant compliance and other issues that impact classification of the liability between current vs. noncurrent. \n  
CLASS:PUBLIC
END:VEVENT
END:VCALENDAR
