BEGIN:VCALENDAR
VERSION:2.0
PRODID:
BEGIN:VEVENT
UID:588894mb
DTSTAMP:20260421T222808Z
DTSTART:20260613T180000Z
DTEND:20260613T190000Z
LOCATION: **Online**
SUMMARY: Financial Acumen for Today's HR Leader
DESCRIPTION: Financial Acumen for the HR Professional is a part of the series "The HR Professional's Guide to Evolving Business Strategy\, Finance and Development." This course identifies how HR Professionals can increase their financial understanding to participate more effectively with management as well as understand the financial results and implications for the business\n 
CLASS:PUBLIC
END:VEVENT
END:VCALENDAR
