BEGIN:VCALENDAR
VERSION:2.0
PRODID:
BEGIN:VEVENT
UID:588888mb
DTSTAMP:20260422T233800Z
DTSTART:20260613T170000Z
DTEND:20260613T180100Z
LOCATION: **Online**
SUMMARY: Relationship Networking: The Art Of Conversation
DESCRIPTION: In the fast moving world where everyone is communicating through email\, text and instant messaging we have forgotten the power of face-to-face conversation. Communication and connection is the foundation for building a thriving network and business.\n  

During this talk\, The Connector&rsquo\;s Advantage author\, Michelle Tillis Lederman will inspire you to leverage the power of personal connection in the digital age while still incorporating the efficiency of virtual communication.\n  
CLASS:PUBLIC
END:VEVENT
END:VCALENDAR
