BEGIN:VCALENDAR
VERSION:2.0
PRODID:
BEGIN:VEVENT
UID:588882mb
DTSTAMP:20260422T233641Z
DTSTART:20260613T160000Z
DTEND:20260613T174700Z
LOCATION: **Online**
SUMMARY: Group Audits: Who is Responsible for What?
DESCRIPTION: Financial statement audits often involve audits of components of a larger entity. This course will focus on the responsibilities for both the group auditor and component auditor\, including implementation of SAS No. 149 relate to group audits\n 
CLASS:PUBLIC
END:VEVENT
END:VCALENDAR
