BEGIN:VCALENDAR
VERSION:2.0
PRODID:
BEGIN:VEVENT
UID:588878mb
DTSTAMP:20260422T233814Z
DTSTART:20260613T150000Z
DTEND:20260613T230000Z
LOCATION: **Online**
SUMMARY: How to Get a Better Return on Yellow Book and Single Audits - Avoiding the Most Misapplied Audit Concepts
DESCRIPTION: Yellow Book and Single Audit reporting entities have complex and unique financial statement audit\, compliance and reporting issues. Deficiencies in these types of audit engagements are common. This course will reduce the likelihood of noncompliance with relevant professional and regulatory auditing and reporting standards\n 
CLASS:PUBLIC
END:VEVENT
END:VCALENDAR
