BEGIN:VCALENDAR
VERSION:2.0
PRODID:
BEGIN:VEVENT
UID:588803mb
DTSTAMP:20260421T043909Z
DTSTART:20260610T170000Z
DTEND:20260610T210000Z
LOCATION: **Online**
SUMMARY: Avoiding Peer Review Deficiencies and Professional Liability in Public Accounting
DESCRIPTION: Peer review deficiencies and professional liability claims result from both audit and nonaudit services. This course will provide best practices for avoiding legal liability and quality control concerns for a wide variety of professional services offered by public accountants\n 
CLASS:PUBLIC
END:VEVENT
END:VCALENDAR
