BEGIN:VCALENDAR
VERSION:2.0
PRODID:
BEGIN:VEVENT
UID:588784mb
DTSTAMP:20260421T055955Z
DTSTART:20260609T230000Z
DTEND:20260610T010000Z
LOCATION: **Online**
SUMMARY: Planning in an Uncertain World
DESCRIPTION: We all make predictions in our personal and professional lives. We base our decisions to marry\, buy a house\, launch a new product or hire staff on expectations about the future. In the past few years\, research into improving predictions has advanced. We will look at this research and current best practices in forecasting to help us prepare better budgets and projections. \n  
CLASS:PUBLIC
END:VEVENT
END:VCALENDAR
