BEGIN:VCALENDAR
VERSION:2.0
PRODID:
BEGIN:VEVENT
UID:588781mb
DTSTAMP:20260421T060046Z
DTSTART:20260609T220000Z
DTEND:20260610T014100Z
LOCATION: **Online**
SUMMARY: Getting On Top of It All: How to Work Smarter\, Not Harder - Part 1
DESCRIPTION: There is always too much to do and too little time to do it all.  Fortunately\, if you know the right ways to manage people\, projects and your time\, you can get on top of everything by working smarter. \n  

In this seminar you&#39\;ll learn the best ways to get more done in less time\, how to stay sane with all you have to do\, and how to get other people to do some of &quot\;your&quot\; work by building great relationships\n 
CLASS:PUBLIC
END:VEVENT
END:VCALENDAR
