BEGIN:VCALENDAR
VERSION:2.0
PRODID:
BEGIN:VEVENT
UID:588774mb
DTSTAMP:20260425T165955Z
DTSTART:20260609T190000Z
DTEND:20260609T223400Z
LOCATION: **Online**
SUMMARY: 10 Keys to Outstanding Service and More Referrals
DESCRIPTION: In a competitive economy\, CPA&#39\;s  and their firms need a way to stand out. The best way to do this is to give outstanding service to your clients. In this experiential workshop\, you&rsquo\;ll learn skills that lead to dramatic client satisfaction. In addition\, you&#39\;ll learn several specific ways to guarantee you&#39\;ll get a lot of word of mouth referrals that will lead to a dramatic increase in your number of clients\n 
CLASS:PUBLIC
END:VEVENT
END:VCALENDAR
