BEGIN:VCALENDAR
VERSION:2.0
PRODID:
BEGIN:VEVENT
UID:588676mb
DTSTAMP:20260419T131900Z
DTSTART:20260605T140000Z
DTEND:20260605T173300Z
LOCATION: **Online**
SUMMARY: Achieve Competency in Three Basic Tool Categories - Master the Fundamentals
DESCRIPTION: Financial skills needed in many situations are constantly changing.  It is prudent to routinely look into your toolbox to restock or revise your tool set.  In this course we will examine three tool categories that form the foundation for many analytical processes\n 
CLASS:PUBLIC
END:VEVENT
END:VCALENDAR
