BEGIN:VCALENDAR
VERSION:2.0
PRODID:
BEGIN:VEVENT
UID:588663mb
DTSTAMP:20260424T174636Z
DTSTART:20260604T170000Z
DTEND:20260604T180900Z
LOCATION: **Online**
SUMMARY: Revenue Recognition Topic 606 Contract with Customers - Identify the Contract Part 2
DESCRIPTION: This course is a continuation of discussion over Step One in the revenue recognition process of Identify the Contract. Specifically\, this session delves further into the considerations surrounding contract modifications\, change orders\, unpriced change orders\, cancelations\, non-finalized changes and accounting treatment when a contract does not exist\n 
CLASS:PUBLIC
END:VEVENT
END:VCALENDAR
