BEGIN:VCALENDAR
VERSION:2.0
PRODID:
BEGIN:VEVENT
UID:588593mb
DTSTAMP:20260423T110237Z
DTSTART:20260601T200000Z
DTEND:20260601T214900Z
LOCATION: **Online**
SUMMARY: Leases Accounting under Topic 842 - Answers to FAQ After Implementation
DESCRIPTION: Lease accounting under FASB ASC 842 is now fully effective for all entities. Transitioning to new GAAP always leads to implementation issues and concerns. This course will answer the most common questions asked related to the latest lease accounting and financial reporting requirements after adoption and transition. \n  
CLASS:PUBLIC
END:VEVENT
END:VCALENDAR
