BEGIN:VCALENDAR
VERSION:2.0
PRODID:
BEGIN:VEVENT
UID:588592mb
DTSTAMP:20260425T150742Z
DTSTART:20260601T190000Z
DTEND:20260601T210000Z
LOCATION: **Online**
SUMMARY: Cash Conversion Cycle: Tool and Techniques
DESCRIPTION: How well do you understand your organization&rsquo\;s cash flow? Good cash management techniques can provide a competitive advantage! This session shows you how to effectively measure and manage your cash conversion cycle. With a more complete understanding of how cash flows through your organization\, you can eliminate impediments. Better cash management lowers your borrowing costs\, reduces financing needs\, and creates financial flexibility in your organization\n 
CLASS:PUBLIC
END:VEVENT
END:VCALENDAR
