BEGIN:VCALENDAR
VERSION:2.0
PRODID:
BEGIN:VEVENT
UID:588520mb
DTSTAMP:20260426T021634Z
DTSTART:20260529T130000Z
DTEND:20260529T144500Z
LOCATION: **Online**
SUMMARY: K2's Ripped From The Headlines - Lessons From Interesting Tech Crimes
DESCRIPTION: Hacks\, attacks\, ransomware\, malware &ndash\; where does it end? Unfortunately\, tech crimes continue to plague businesses of all sizes. Participate in this session to learn how you can reduce the risk of becoming yet another victim\n 
CLASS:PUBLIC
END:VEVENT
END:VCALENDAR
