BEGIN:VCALENDAR
VERSION:2.0
PRODID:
BEGIN:VEVENT
UID:588516mb
DTSTAMP:20260425T194317Z
DTSTART:20260529T050000Z
DTEND:20260529T070000Z
LOCATION: **Online**
SUMMARY: K2's Top Ten Productivity Booster Apps In Microsoft 365
DESCRIPTION: This two-hour CPE course is designed for accounting professionals and technology enthusiasts seeking to enhance productivity through Microsoft 365's versatile applications. Participants will explore ten key apps - including Shared Mailboxes\, Planner\, Lists\, To Do\, Stream\, Viva Learning\, Forms\, Bookings\, Approvals\, and Places - and learn to integrate them effectively into their workflows. The course emphasizes practical applications within accounting contexts\, aiming to streamline operations and foster collaboration\n 
CLASS:PUBLIC
END:VEVENT
END:VCALENDAR
