BEGIN:VCALENDAR
VERSION:2.0
PRODID:
BEGIN:VEVENT
UID:588497mb
DTSTAMP:20260425T001526Z
DTSTART:20260528T190000Z
DTEND:20260528T210000Z
LOCATION: **Online**
SUMMARY: K2's Taking Another Look At Power BI
DESCRIPTION: Although Power BI has been available for ten years\, most business professionals don't fully appreciate all it can do and its easy use. Further\, many are intimidated by the platform and continue to use less efficient and effective reporting practices. If this describes you\, invest some time in this session to learn how to work with Power BI almost immediately. In this session\, you will learn how to use Power BI to create compelling dashboard reports. You will also learn how to optimize these reports to enhance their effectiveness. If you want to improve financial and operational reporting processes\, this session is for you!\n  
CLASS:PUBLIC
END:VEVENT
END:VCALENDAR
