BEGIN:VCALENDAR
VERSION:2.0
PRODID:
BEGIN:VEVENT
UID:588478mb
DTSTAMP:20260422T160841Z
DTSTART:20260528T160000Z
DTEND:20260528T170000Z
LOCATION: **Online**
SUMMARY: The Art of Accountability: Effective Strategies for Tough Conversations
DESCRIPTION: The Art of Accountability is a dynamic training session tailored for leaders seeking to cultivate a culture of accountability while fostering respect and trust within their teams. High morale is intrinsically linked to high accountability in todays fast-paced work environment. \n  
CLASS:PUBLIC
END:VEVENT
END:VCALENDAR
