BEGIN:VCALENDAR
VERSION:2.0
PRODID:
BEGIN:VEVENT
UID:588473mb
DTSTAMP:20260420T142725Z
DTSTART:20260528T160000Z
DTEND:20260528T234000Z
LOCATION: **Online**
SUMMARY: Beyond the Basics of SSARS and Nonattest Services:  Are You Certain You Are in Compliance?
DESCRIPTION: Practitioners that provide non-audit services must strike the right balance between complying with relevant professional and regulatory standards\, providing value-added client service\, and mitigating litigation and other practice management risks. This course contains many case studies to reinforce best practices for managing the accounting\, reporting\, and performance issues associated with the attest services of compilations and reviews where reports are issued\, as well as the SSARS  preparation of financial statements service and other nonattest engagements\n 
CLASS:PUBLIC
END:VEVENT
END:VCALENDAR
