BEGIN:VCALENDAR
VERSION:2.0
PRODID:
BEGIN:VEVENT
UID:588463mb
DTSTAMP:20260420T203021Z
DTSTART:20260528T140000Z
DTEND:20260528T180000Z
LOCATION: **Online**
SUMMARY: K2's Data Analytics for Accountants and Auditors
DESCRIPTION: In the world of &ldquo\;Big Data\,&rdquo\; virtually all business professionals have become data analysts\, at least to some extent. However\, that is particularly true in the field of auditing\, where internal and external auditors are increasingly turning to data analytics to identify situations requiring follow-up and investigation. Those who understand how to take advantage of various tools to assist in these efforts benefit by conducting more thorough analyses and achieving superior results in less time\n 

In this session\, you will learn about various tools and techniques you can use for more thorough data analyzes. The discussion includes Excel as a data analysis tool\, multiple Excel add-ins\, and Microsoft&rsquo\;s Power BI application. If you&#39\;re seeking to improve your skills in the field of data analytics\, this session is the one for you! \n  
CLASS:PUBLIC
END:VEVENT
END:VCALENDAR
