BEGIN:VCALENDAR
VERSION:2.0
PRODID:
BEGIN:VEVENT
UID:588461mb
DTSTAMP:20260420T203537Z
DTSTART:20260528T140000Z
DTEND:20260528T220000Z
LOCATION: **Online**
SUMMARY: K2's Accountant's Guide To QuickBooks Online
DESCRIPTION: QuickBooks Online&rsquo\;s (QBO) market share continues to expand\, and the Cloud-based accounting platform now dominates the small business market. Yet\, most accounting and financial professionals have not participated in any formal training on the Cloud-based accounting service. Thus\, they are unaware of many of the tool&rsquo\;s available features and do not work with QuickBooks Online as efficiently and effectively as they should\n 

This course teaches you how to set up QBO and convert QuickBooks Desktop files into a QBO instance. You will learn how to process all types of transactions\, including accounts payable\, accounts receivable\, bank feeds\, inventory\, and payroll. Further\, you will learn how to implement appropriate internal controls and how to capitalize on advanced features such as workflow management and management reports. Join us in this session to learn how to set up QBO properly and take full advantage of all it offers while avoiding common errors and mistakes\n 
CLASS:PUBLIC
END:VEVENT
END:VCALENDAR
