BEGIN:VCALENDAR
VERSION:2.0
PRODID:
BEGIN:VEVENT
UID:588460mb
DTSTAMP:20260420T203617Z
DTSTART:20260528T140000Z
DTEND:20260528T173600Z
LOCATION: **Online**
SUMMARY: Independence for Auditors - AICPA\, PCAOB\, GAO & DOL
DESCRIPTION: This course will look at the various rules related to Independence and compare and contrast the requirements. This overview course will help auditors understand the nuances of independence and ensure they meet the requirements to perform attest services for their clients. We will review the requirements for the AICPA\, GAO\, DOL\, and PCAOB\n 
CLASS:PUBLIC
END:VEVENT
END:VCALENDAR
