BEGIN:VCALENDAR
VERSION:2.0
PRODID:
BEGIN:VEVENT
UID:588448mb
DTSTAMP:20260424T065635Z
DTSTART:20260527T170000Z
DTEND:20260527T185100Z
LOCATION: **Online**
SUMMARY: Emerging Innovations in Forensic Data Analytics\, Crypto Currencies and AI\, ChatGPT
DESCRIPTION: In this course\, participants will learn about key trends and innovations impacting the field of forensic data analytics.  From generative AI to ChatGPT\, machine learning and transaction review\, data sharing consortiums and cryptocurrency trends\, this course is for the futurist who wants to be leading edge in compliance and anti-fraud technology innovation. \n  
CLASS:PUBLIC
END:VEVENT
END:VCALENDAR
