BEGIN:VCALENDAR
VERSION:2.0
PRODID:
BEGIN:VEVENT
UID:588419mb
DTSTAMP:20260423T110411Z
DTSTART:20260526T230000Z
DTEND:20260527T010000Z
LOCATION: **Online**
SUMMARY: K2's Taking A Fresh Look At Teams
DESCRIPTION: Just because Microsoft Teams is no longer a new tool doesn't mean it hasn't evolved & it certainly has! Since its introduction in 2016\, Teams has become the de facto business productivity platform for organizations worldwide. Yet\, many users barely scratch the surface of all that Teams offers. Participate in this session to learn how to get more from Teams and enhance your ROI on the platform. In this session\, you will learn about the core options available in Teams and how to leverage them. You will also learn about new enhancements in Teams\, including threaded conversations\, enhanced meeting features\, and integration with Microsoft's Copilot platform. If you use Teams and want a deeper understanding of the platform\, don't miss your opportunity to participate in this session\n 
CLASS:PUBLIC
END:VEVENT
END:VCALENDAR
