BEGIN:VCALENDAR
VERSION:2.0
PRODID:
BEGIN:VEVENT
UID:588404mb
DTSTAMP:20260421T004121Z
DTSTART:20260526T190000Z
DTEND:20260526T204900Z
LOCATION: **Online**
SUMMARY: FAQ Related to the Most Recent Audit Standards SAS Nos. 142-149
DESCRIPTION: Recently issued generally accepted auditing standards were designed to enhance audit quality.  This course will address the most commonly misapplied concepts and FAQ in properly implementing the new requirements in the way intended to achieve that goal\n 
CLASS:PUBLIC
END:VEVENT
END:VCALENDAR
