BEGIN:VCALENDAR
VERSION:2.0
PRODID:
BEGIN:VEVENT
UID:588305mb
DTSTAMP:20260422T235103Z
DTSTART:20260521T150000Z
DTEND:20260521T160100Z
LOCATION: **Online**
SUMMARY: K2'S Privacy Issues And Solutions - What You Need to Know!
DESCRIPTION: Privacy should be everywhere\, yet every day seemingly brings a new story about a privacy violation. While it can be frustrating and sometimes scary to think about mishandling our personal information\, it&rsquo\;s important to remember that we can take steps to protect our privacy\n 

This session will teach you where your critical threats are and what information you may already have at risk. More importantly\, you will learn how to manage and mitigate privacy risks. In an era of increasing connectivity &ndash\; and by extension\, risk &ndash\; this session should be high on your list to take as soon as possible\n 
CLASS:PUBLIC
END:VEVENT
END:VCALENDAR
